BEGIN:VCALENDAR
VERSION:2.0
PRODID:-//eventon.com NONSGML v1.0//EN
CALSCALE:GREGORIAN
METHOD:PUBLISH
BEGIN:VEVENT
UID:69ebd5b1937c1
DTSTAMP:20260424T204225Z
DTSTART:20180626
DTEND:20180627
LOCATION:
SUMMARY:CE Selecc. Autonómicas Sub 14 y Sub 16
DESCRIPTION:CE Selecc. Autonómicas Sub 14 y Sub 16\nhttps://feda.org/feda2
 k16/events/ce-selecc-autonomicas-sub-14-y-sub-16/
URL:https://feda.org/feda2k16/events/ce-selecc-autonomicas-sub-14-y-sub-16/
END:VEVENT
END:VCALENDAR