BEGIN:VCALENDAR
VERSION:2.0
PRODID:-//eventon.com NONSGML v1.0//EN
CALSCALE:GREGORIAN
METHOD:PUBLISH
BEGIN:VEVENT
UID:69ebd258ba2a1
DTSTAMP:20260424T202808Z
DTSTART:20180702
DTEND:20180703
LOCATION:
SUMMARY:CE Sub 10
DESCRIPTION:CE Sub 10\nhttps://feda.org/feda2k16/events/ce-sub-10/
URL:https://feda.org/feda2k16/events/ce-sub-10/
END:VEVENT
END:VCALENDAR