BEGIN:VCALENDAR
VERSION:2.0
PRODID:-//eventon.com NONSGML v1.0//EN
CALSCALE:GREGORIAN
METHOD:PUBLISH
BEGIN:VEVENT
UID:69ebd258ba3bc
DTSTAMP:20260424T202808Z
DTSTART:20180707
DTEND:20180708
LOCATION:
SUMMARY:CE Sub 10 Rápido
DESCRIPTION:CE Sub 10 Rápido\nhttps://feda.org/feda2k16/events/ce-sub-10-r
 apido/
URL:https://feda.org/feda2k16/events/ce-sub-10-rapido/
END:VEVENT
END:VCALENDAR