BEGIN:VCALENDAR
VERSION:2.0
PRODID:-//eventon.com NONSGML v1.0//EN
CALSCALE:GREGORIAN
METHOD:PUBLISH
BEGIN:VEVENT
UID:69ebd286e6644
DTSTAMP:20260424T202854Z
DTSTART:20180709
DTEND:20180710
LOCATION:
SUMMARY:CE Sub 12
DESCRIPTION:CE Sub 12\nhttps://feda.org/feda2k16/events/ce-sub-12/
URL:https://feda.org/feda2k16/events/ce-sub-12/
END:VEVENT
END:VCALENDAR