BEGIN:VCALENDAR
VERSION:2.0
PRODID:-//eventon.com NONSGML v1.0//EN
CALSCALE:GREGORIAN
METHOD:PUBLISH
BEGIN:VEVENT
UID:69ebd286e5010
DTSTAMP:20260424T202854Z
DTSTART:20180714
DTEND:20180715
LOCATION:
SUMMARY:CE Sub 12 Rápido
DESCRIPTION:CE Sub 12 Rápido\nhttps://feda.org/feda2k16/events/ce-sub-12-r
 apido/
URL:https://feda.org/feda2k16/events/ce-sub-12-rapido/
END:VEVENT
END:VCALENDAR