BEGIN:VCALENDAR
VERSION:2.0
PRODID:-//eventon.com NONSGML v1.0//EN
CALSCALE:GREGORIAN
METHOD:PUBLISH
BEGIN:VEVENT
UID:69ebd89556c42
DTSTAMP:20260424T205445Z
DTSTART:20180804
DTEND:20180805
LOCATION:
SUMMARY:CE Sub 18 Rápido
DESCRIPTION:CE Sub 18 Rápido\nhttps://feda.org/feda2k16/events/ce-sub-18-r
 apido/
URL:https://feda.org/feda2k16/events/ce-sub-18-rapido/
END:VEVENT
END:VCALENDAR